BEGIN:VCALENDAR
VERSION:2.0
PRODID:-//Bürgertreff Saarmund e.V. - ECPv6.15.20//NONSGML v1.0//EN
CALSCALE:GREGORIAN
METHOD:PUBLISH
X-ORIGINAL-URL:https://buergertreff-saarmund.de
X-WR-CALDESC:Veranstaltungen für Bürgertreff Saarmund e.V.
REFRESH-INTERVAL;VALUE=DURATION:PT1H
X-Robots-Tag:noindex
X-PUBLISHED-TTL:PT1H
BEGIN:VTIMEZONE
TZID:Europe/Helsinki
BEGIN:DAYLIGHT
TZOFFSETFROM:+0200
TZOFFSETTO:+0300
TZNAME:EEST
DTSTART:20220327T010000
END:DAYLIGHT
BEGIN:STANDARD
TZOFFSETFROM:+0300
TZOFFSETTO:+0200
TZNAME:EET
DTSTART:20221030T010000
END:STANDARD
BEGIN:DAYLIGHT
TZOFFSETFROM:+0200
TZOFFSETTO:+0300
TZNAME:EEST
DTSTART:20230326T010000
END:DAYLIGHT
BEGIN:STANDARD
TZOFFSETFROM:+0300
TZOFFSETTO:+0200
TZNAME:EET
DTSTART:20231029T010000
END:STANDARD
BEGIN:DAYLIGHT
TZOFFSETFROM:+0200
TZOFFSETTO:+0300
TZNAME:EEST
DTSTART:20240331T010000
END:DAYLIGHT
BEGIN:STANDARD
TZOFFSETFROM:+0300
TZOFFSETTO:+0200
TZNAME:EET
DTSTART:20241027T010000
END:STANDARD
END:VTIMEZONE
BEGIN:VEVENT
DTSTART;TZID=Europe/Helsinki:20230823T183000
DTEND;TZID=Europe/Helsinki:20230823T210000
DTSTAMP:20260422T110212
CREATED:20230719T101830Z
LAST-MODIFIED:20230719T101904Z
UID:3396-1692815400-1692824400@buergertreff-saarmund.de
SUMMARY:Mitgliederversammlung Geschichtsverein Nuthetal e. V.
DESCRIPTION:Mitgliederversammlung des Geschichtsvereins Nuthetal e. V.
URL:https://buergertreff-saarmund.de/event/vorstandssitzung-geschichtsverein-nuthetal-e-v-3
LOCATION:Bürgertreff Saarmund\, Nuthestr. 45\, Nuthetal\, 14558\, Deutschland
ATTACH;FMTTYPE=image/jpeg:https://buergertreff-saarmund.de/wp-content/uploads/2021/05/main_00-1140x380-1-e1621485627274.jpg
ORGANIZER;CN="Geschichtsverein Nuthetal e. V.":MAILTO:Geschichtsverein-Nuthetal@gmx.de
END:VEVENT
END:VCALENDAR